BEGIN:VCALENDAR
VERSION:2.0
PRODID:-//Crux Ansata Oasis of Ordo Templi Orientis - ECPv6.15.20//NONSGML v1.0//EN
CALSCALE:GREGORIAN
METHOD:PUBLISH
X-WR-CALNAME:Crux Ansata Oasis of Ordo Templi Orientis
X-ORIGINAL-URL:https://www.cruxansata-oto.org
X-WR-CALDESC:Events for Crux Ansata Oasis of Ordo Templi Orientis
REFRESH-INTERVAL;VALUE=DURATION:PT1H
X-Robots-Tag:noindex
X-PUBLISHED-TTL:PT1H
BEGIN:VTIMEZONE
TZID:America/Denver
BEGIN:DAYLIGHT
TZOFFSETFROM:-0700
TZOFFSETTO:-0600
TZNAME:MDT
DTSTART:20250309T090000
END:DAYLIGHT
BEGIN:STANDARD
TZOFFSETFROM:-0600
TZOFFSETTO:-0700
TZNAME:MST
DTSTART:20251102T080000
END:STANDARD
BEGIN:DAYLIGHT
TZOFFSETFROM:-0700
TZOFFSETTO:-0600
TZNAME:MDT
DTSTART:20260308T090000
END:DAYLIGHT
BEGIN:STANDARD
TZOFFSETFROM:-0600
TZOFFSETTO:-0700
TZNAME:MST
DTSTART:20261101T080000
END:STANDARD
BEGIN:DAYLIGHT
TZOFFSETFROM:-0700
TZOFFSETTO:-0600
TZNAME:MDT
DTSTART:20270314T090000
END:DAYLIGHT
BEGIN:STANDARD
TZOFFSETFROM:-0600
TZOFFSETTO:-0700
TZNAME:MST
DTSTART:20271107T080000
END:STANDARD
END:VTIMEZONE
BEGIN:VEVENT
DTSTART;TZID=America/Denver:20260320T190000
DTEND;TZID=America/Denver:20260320T210000
DTSTAMP:20260419T220229
CREATED:20260223T224337Z
LAST-MODIFIED:20260223T224337Z
UID:554-1774033200-1774040400@www.cruxansata-oto.org
SUMMARY:Feast for the Supreme Ritual
DESCRIPTION:“A feast for the Supreme Ritual and a feast for the Equinox of the Gods.” Liber Legis II:40 \nPer the Book of the Law\, Crux Ansata will be taking part in a celebration of the Feast for the Supreme Ritual on Friday\, March 20th. We will begin with a ceremony adapted from Crowley’s Invocation of Horus and finish with a potluck feast. We would love to observe the proper hour of noon\, alas mundane obligations have claimed the daylight hours of our weekdays. Instead\, we will be gathering at 6:30PM for a ritual start time of 7PM. \nWe hope you will join us as this participatory ritual excels in groups. \nIf you have yet to attend an event with Crux Ansata\, visit https://www.cruxansata-oto.org/ for our Diversity Statement and Code of Conduct\, then email cruxansata.secretary@OTO-usa.org to get started! We would love to meet you!
URL:https://www.cruxansata-oto.org/event/feast-for-the-supreme-ritual/
LOCATION:Westminster\, CO
CATEGORIES:Ritual
ATTACH;FMTTYPE=image/png:https://www.cruxansata-oto.org/wp-content/uploads/2026/02/Event-post_png-2.png
ORGANIZER;CN="Crux Ansata Secretary":MAILTO:cruxansata.secretary@oto-usa.org
END:VEVENT
END:VCALENDAR